BEGIN:VCALENDAR
VERSION:2.0
PRODID:-//192.185.93.242//NONSGML kigkonsult.se iCalcreator 2.20//
CALSCALE:GREGORIAN
METHOD:PUBLISH
X-FROM-URL:http://canterburyreferees.org.au
X-WR-TIMEZONE:Australia/Sydney
BEGIN:VTIMEZONE
TZID:Australia/Sydney
X-LIC-LOCATION:Australia/Sydney
BEGIN:STANDARD
DTSTART:20180401T030000
TZOFFSETFROM:+1100
TZOFFSETTO:+1000
TZNAME:AEST
END:STANDARD
BEGIN:DAYLIGHT
DTSTART:20171001T020000
TZOFFSETFROM:+1000
TZOFFSETTO:+1100
TZNAME:AEDT
END:DAYLIGHT
END:VTIMEZONE
BEGIN:VEVENT
UID:ai1ec-690@canterburyreferees.org.au
DTSTAMP:20180224T091059Z
CATEGORIES:
CONTACT:Youcef Kabbara\; jvp@canterburyreferees.org.au
DESCRIPTION:
DTSTART;TZID=Australia/Sydney:20161009T120000
DTEND;TZID=Australia/Sydney:20161009T163000
GEO:-33.925865;+151.080189
LOCATION:Haldon House @ 276 Haldon St\, Lakemba NSW 2195\, Australia
SEQUENCE:0
SUMMARY:Presentation Day
URL:http://canterburyreferees.org.au/event/presentation-day/
X-COST-TYPE:free
END:VEVENT
BEGIN:VEVENT
UID:ai1ec-422@canterburyreferees.org.au
DTSTAMP:20180224T091059Z
CATEGORIES:
CONTACT:
DESCRIPTION:
DTSTART;TZID=Australia/Sydney:20180108T193000
DTEND;TZID=Australia/Sydney:20180108T210000
GEO:-33.925085;+151.119405
LOCATION:EBP Sports @ 43 Doris Ave\, Earlwood NSW 2206\, Australia
RDATE;TZID=Australia/Sydney:20180205T193000
RDATE;TZID=Australia/Sydney:20180312T193000
RDATE;TZID=Australia/Sydney:20180402T193000
RDATE;TZID=Australia/Sydney:20180507T193000
RDATE;TZID=Australia/Sydney:20180604T193000
RDATE;TZID=Australia/Sydney:20180702T193000
RDATE;TZID=Australia/Sydney:20180813T193000
RDATE;TZID=Australia/Sydney:20180903T193000
RDATE;TZID=Australia/Sydney:20181008T193000
SEQUENCE:0
SUMMARY:Management Meeting
URL:http://canterburyreferees.org.au/event/management-meeting/
X-COST-TYPE:free
END:VEVENT
BEGIN:VEVENT
UID:ai1ec-208@canterburyreferees.org.au
DTSTAMP:20180224T091059Z
CATEGORIES:
CONTACT:Anthony Mansour\; development@canterburyreferees.org.au
DESCRIPTION:This course is the starting point for ALL Referees. Ensure you 
 complete the ON-LINE Laws of the Game Certificate & bring this to Theory c
 omponent.\nTo undertake this training program you must be at least 13 year
 s of age and have successfully passed the online Laws of the Game within t
 he past two years.\nThis training program is aimed at match officials offi
 ciating in junior and youth matches.\nThe program consists of theory modul
 es\, practical sessions and practical mentoring in matches as a referee an
 d assistant referee.\nUpon completion of all components referees will be o
 fficially qualified as a Level 4 Referee. The qualification is valid for a
  period of up to 4 years.\nAnyone who wants to referee 11 v 11 football at
  a local level.  Every referee – even World Cup referees – start from here
 .\nAccreditation is compulsory in accordance with FFA National Registratio
 n Regulations.\nCLICK HERE to book your spot!
DTSTART;TZID=Australia/Sydney:20180217T093000
DTEND;TZID=Australia/Sydney:20180217T170000
GEO:-33.925085;+151.119405
LOCATION:EBP Sports & Earlwood Oval @ 43 Doris Ave\, Earlwood NSW 2206\, Au
 stralia
SEQUENCE:0
SUMMARY:Entrance Course 1
URL:http://canterburyreferees.org.au/event/entrance-course-1/
X-COST-TYPE:free
X-ALT-DESC;FMTTYPE=text/html:<!DOCTYPE HTML PUBLIC '-//W3C//DTD HTML 3.2//E
 N'>\\n<HTML>\\n<HEAD>\\n<TITLE></TITLE>\\n</HEAD>\\n<BODY><p>This course i
 s the starting point for ALL Referees. Ensure you complete the ON-LINE Law
 s of the Game Certificate & bring this to Theory component.</p>\n<p>To und
 ertake this training program you must be at least 13 years of age and have
  successfully passed the online Laws of the Game within the past two years
 .</p>\n<p>This training program is aimed at match officials officiating in
  junior and youth matches.</p>\n<p>The program consists of theory modules\
 , practical sessions and practical mentoring in matches as a referee and a
 ssistant referee.<br />\nUpon completion of all components referees will b
 e officially qualified as a Level 4 Referee. The qualification is valid fo
 r a period of up to 4 years.</p>\n<p>Anyone who wants to referee 11 v 11 f
 ootball at a local level.  Every referee – even World Cup referees – start
  from here.</p>\n<p>Accreditation is compulsory in accordance with FFA Nat
 ional Registration Regulations.</p>\n<h4><strong><a href='https://educatio
 n-ffa.sportingpulse.com/event.asp?ID=17442' target='_blank' rel='noopener'
 >CLICK HERE to book your spot!</a></strong></h4>\n</BODY></HTML>
X-TAGS;LANGUAGE=en-AU:become referee\,course\,Entrance\,learn\,starter
END:VEVENT
BEGIN:VEVENT
UID:ai1ec-211@canterburyreferees.org.au
DTSTAMP:20180224T091059Z
CATEGORIES:
CONTACT:Anthony Mansour\; development@canterburyreferees.org.au
DESCRIPTION:This course is the starting point for ALL Referees. Ensure you 
 complete the ON-LINE Laws of the Game Certificate & bring this to Theory c
 omponent.\nTo undertake this training program you must be at least 13 year
 s of age and have successfully passed the online Laws of the Game within t
 he past two years.\nThis training program is aimed at match officials offi
 ciating in junior and youth matches.\nThe program consists of theory modul
 es\, practical sessions and practical mentoring in matches as a referee an
 d assistant referee.\nUpon completion of all components referees will be o
 fficially qualified as a Level 4 Referee. The qualification is valid for a
  period of up to 4 years.\nAnyone who wants to referee 11 v 11 football at
  a local level.  Every referee – even World Cup referees – start from here
 .\nAccreditation is compulsory in accordance with FFA National Registratio
 n Regulations.\nCLICK HERE to book your spot!
DTSTART;TZID=Australia/Sydney:20180224T093000
DTEND;TZID=Australia/Sydney:20180224T170000
GEO:-33.925085;+151.119405
LOCATION:EBP Sports & Earlwood Oval @ 43 Doris Ave\, Earlwood NSW 2206\, Au
 stralia
SEQUENCE:0
SUMMARY:Entrance Course 2
URL:http://canterburyreferees.org.au/event/entrance-course-1-2/
X-COST-TYPE:free
X-ALT-DESC;FMTTYPE=text/html:<!DOCTYPE HTML PUBLIC '-//W3C//DTD HTML 3.2//E
 N'>\\n<HTML>\\n<HEAD>\\n<TITLE></TITLE>\\n</HEAD>\\n<BODY><p>This course i
 s the starting point for ALL Referees. Ensure you complete the ON-LINE Law
 s of the Game Certificate & bring this to Theory component.</p>\n<p>To und
 ertake this training program you must be at least 13 years of age and have
  successfully passed the online Laws of the Game within the past two years
 .</p>\n<p>This training program is aimed at match officials officiating in
  junior and youth matches.</p>\n<p>The program consists of theory modules\
 , practical sessions and practical mentoring in matches as a referee and a
 ssistant referee.<br />\nUpon completion of all components referees will b
 e officially qualified as a Level 4 Referee. The qualification is valid fo
 r a period of up to 4 years.</p>\n<p>Anyone who wants to referee 11 v 11 f
 ootball at a local level.  Every referee – even World Cup referees – start
  from here.</p>\n<p>Accreditation is compulsory in accordance with FFA Nat
 ional Registration Regulations.</p>\n<h4><strong><a href='https://educatio
 n-ffa.sportingpulse.com/event.asp?ID=17443' target='_blank' rel='noopener'
 >CLICK HERE to book your spot!</a></strong></h4>\n</BODY></HTML>
X-TAGS;LANGUAGE=en-AU:become referee\,course\,Entrance\,learn\,starter
END:VEVENT
BEGIN:VEVENT
UID:ai1ec-214@canterburyreferees.org.au
DTSTAMP:20180224T091059Z
CATEGORIES:
CONTACT:Anthony Mansour\; development@canterburyreferees.org.au
DESCRIPTION:This course is the starting point for ALL Referees. Ensure you 
 complete the ON-LINE Laws of the Game Certificate & bring this to Theory c
 omponent.\nTo undertake this training program you must be at least 13 year
 s of age and have successfully passed the online Laws of the Game within t
 he past two years.\nThis training program is aimed at match officials offi
 ciating in junior and youth matches.\nThe program consists of theory modul
 es\, practical sessions and practical mentoring in matches as a referee an
 d assistant referee.\nUpon completion of all components referees will be o
 fficially qualified as a Level 4 Referee. The qualification is valid for a
  period of up to 4 years.\nAnyone who wants to referee 11 v 11 football at
  a local level.  Every referee – even World Cup referees – start from here
 .\nAccreditation is compulsory in accordance with FFA National Registratio
 n Regulations.\nCLICK HERE to book your spot!
DTSTART;TZID=Australia/Sydney:20180303T093000
DTEND;TZID=Australia/Sydney:20180303T170000
GEO:-33.925085;+151.119405
LOCATION:EBP Sports & Earlwood Oval @ 43 Doris Ave\, Earlwood NSW 2206\, Au
 stralia
SEQUENCE:0
SUMMARY:Entrance Course 3 – Seniors Only (18+ years)
URL:http://canterburyreferees.org.au/event/entrance-course-1-2-2/
X-COST-TYPE:free
X-ALT-DESC;FMTTYPE=text/html:<!DOCTYPE HTML PUBLIC '-//W3C//DTD HTML 3.2//E
 N'>\\n<HTML>\\n<HEAD>\\n<TITLE></TITLE>\\n</HEAD>\\n<BODY><p>This course i
 s the starting point for ALL Referees. Ensure you complete the ON-LINE Law
 s of the Game Certificate & bring this to Theory component.</p>\n<p>To und
 ertake this training program you must be at least 13 years of age and have
  successfully passed the online Laws of the Game within the past two years
 .</p>\n<p>This training program is aimed at match officials officiating in
  junior and youth matches.</p>\n<p>The program consists of theory modules\
 , practical sessions and practical mentoring in matches as a referee and a
 ssistant referee.<br />\nUpon completion of all components referees will b
 e officially qualified as a Level 4 Referee. The qualification is valid fo
 r a period of up to 4 years.</p>\n<p>Anyone who wants to referee 11 v 11 f
 ootball at a local level.  Every referee – even World Cup referees – start
  from here.</p>\n<p>Accreditation is compulsory in accordance with FFA Nat
 ional Registration Regulations.</p>\n<h4><strong><a href='https://educatio
 n-ffa.sportingpulse.com/event.asp?ID=17444' target='_blank' rel='noopener'
 >CLICK HERE to book your spot!</a></strong></h4>\n</BODY></HTML>
X-TAGS;LANGUAGE=en-AU:become referee\,course\,Entrance\,learn\,starter
END:VEVENT
BEGIN:VEVENT
UID:ai1ec-212@canterburyreferees.org.au
DTSTAMP:20180224T091059Z
CATEGORIES:
CONTACT:Anthony Mansour\; development@canterburyreferees.org.au
DESCRIPTION:ALL FEMALE COURSE ONLY\nThis course is the starting point for A
 LL Referees. Ensure you complete the ON-LINE Laws of the Game Certificate 
 & bring this to Theory component.\nTo undertake this training program you 
 must be at least 13 years of age and have successfully passed the online L
 aws of the Game within the past two years.\nThis training program is aimed
  at match officials officiating in junior and youth matches.\nThe program 
 consists of theory modules\, practical sessions and practical mentoring in
  matches as a referee and assistant referee.\nUpon completion of all compo
 nents referees will be officially qualified as a Level 4 Referee. The qual
 ification is valid for a period of up to 4 years.\nAnyone who wants to ref
 eree 11 v 11 football at a local level.  Every referee – even World Cup re
 ferees – start from here.\nAccreditation is compulsory in accordance with 
 FFA National Registration Regulations.\nCLICK HERE to book your spot!
DTSTART;TZID=Australia/Sydney:20180310T093000
DTEND;TZID=Australia/Sydney:20180310T170000
GEO:-33.925085;+151.119405
LOCATION:EBP Sports & Earlwood Oval @ 43 Doris Ave\, Earlwood NSW 2206\, Au
 stralia
SEQUENCE:0
SUMMARY:Entrance Course 4 – Female Only
URL:http://canterburyreferees.org.au/event/entrance-course-1-3/
X-COST-TYPE:free
X-ALT-DESC;FMTTYPE=text/html:<!DOCTYPE HTML PUBLIC '-//W3C//DTD HTML 3.2//E
 N'>\\n<HTML>\\n<HEAD>\\n<TITLE></TITLE>\\n</HEAD>\\n<BODY><h4><strong>ALL 
 FEMALE COURSE ONLY</strong></h4>\n<p>This course is the starting point for
  ALL Referees. Ensure you complete the ON-LINE Laws of the Game Certificat
 e & bring this to Theory component.</p>\n<p>To undertake this training pro
 gram you must be at least 13 years of age and have successfully passed the
  online Laws of the Game within the past two years.</p>\n<p>This training 
 program is aimed at match officials officiating in junior and youth matche
 s.</p>\n<p>The program consists of theory modules\, practical sessions and
  practical mentoring in matches as a referee and assistant referee.<br />
 \nUpon completion of all components referees will be officially qualified 
 as a Level 4 Referee. The qualification is valid for a period of up to 4 y
 ears.</p>\n<p>Anyone who wants to referee 11 v 11 football at a local leve
 l.  Every referee – even World Cup referees – start from here.</p>\n<p>Acc
 reditation is compulsory in accordance with FFA National Registration Regu
 lations.</p>\n<h4><strong><a href='https://education-ffa.sportingpulse.com
 /event.asp?ID=17445' target='_blank' rel='noopener'>CLICK HERE to book you
 r spot!</a></strong></h4>\n</BODY></HTML>
X-TAGS;LANGUAGE=en-AU:become referee\,course\,Entrance\,female\,girls\,lear
 n\,starter
END:VEVENT
BEGIN:VEVENT
UID:ai1ec-516@canterburyreferees.org.au
DTSTAMP:20180224T091059Z
CATEGORIES:
CONTACT:Anthony Mansour\; 0416 638 514\; development@canterburyreferees.org
 .au
DESCRIPTION:This course is the starting point for ALL Referees. Ensure you 
 complete the ON-LINE Laws of the Game Certificate & bring this to Theory c
 omponent.\nTo undertake this training program you must be at least 13 year
 s of age and have successfully passed the online Laws of the Game within t
 he past two years.\nThis training program is aimed at match officials offi
 ciating in junior and youth matches.\nThe program consists of theory modul
 es\, practical sessions and practical mentoring in matches as a referee an
 d assistant referee.\nUpon completion of all components referees will be o
 fficially qualified as a Level 4 Referee. The qualification is valid for a
  period of up to 4 years.\nAnyone who wants to referee 11 v 11 football at
  a local level.  Every referee – even World Cup referees – start from here
 .\nAccreditation is compulsory in accordance with FFA National Registratio
 n Regulations.\nCLICK HERE to book your spot!
DTSTART;TZID=Australia/Sydney:20180317T093000
DTEND;TZID=Australia/Sydney:20180317T170000
GEO:-33.925085;+151.119405
LOCATION:EBP Sports & Earlwood Oval @ 43 Doris Ave\, Earlwood NSW 2206\, Au
 stralia
SEQUENCE:0
SUMMARY:Entrance Course 5
URL:http://canterburyreferees.org.au/event/entrance-course-5-seniors-only-1
 8/
X-COST-TYPE:free
X-ALT-DESC;FMTTYPE=text/html:<!DOCTYPE HTML PUBLIC '-//W3C//DTD HTML 3.2//E
 N'>\\n<HTML>\\n<HEAD>\\n<TITLE></TITLE>\\n</HEAD>\\n<BODY><div class='ai1e
 c-event-description'>\n<p>This course is the starting point for ALL Refere
 es. Ensure you complete the ON-LINE Laws of the Game Certificate & bring t
 his to Theory component.</p>\n<p>To undertake this training program you mu
 st be at least 13 years of age and have successfully passed the online Law
 s of the Game within the past two years.</p>\n<p>This training program is 
 aimed at match officials officiating in junior and youth matches.</p>\n<p>
 The program consists of theory modules\, practical sessions and practical 
 mentoring in matches as a referee and assistant referee.<br />\nUpon compl
 etion of all components referees will be officially qualified as a Level 4
  Referee. The qualification is valid for a period of up to 4 years.</p>\n<
 p>Anyone who wants to referee 11 v 11 football at a local level.  Every re
 feree – even World Cup referees – start from here.</p>\n<p>Accreditation i
 s compulsory in accordance with FFA National Registration Regulations.</p>
 \n<h4><strong><a href='https://education-ffa.sportingpulse.com/event.asp?I
 D=17446' target='_blank' rel='noopener'>CLICK HERE to book your spot!</a><
 /strong></h4>\n</div>\n</BODY></HTML>
END:VEVENT
BEGIN:VEVENT
UID:ai1ec-269@canterburyreferees.org.au
DTSTAMP:20180224T091059Z
CATEGORIES:
CONTACT:Anthony Mansour\; development@canterburyreferees.org.au
DESCRIPTION:The CRA Annual Seminar is COMPULSORY for ALL registered CRA mem
 bers to attend.\nIf you cannot attend please email the development officer
 … development@canterburyreferees.org.au
DTSTART;TZID=Australia/Sydney:20180325T083000
DTEND;TZID=Australia/Sydney:20180325T130000
GEO:-33.925865;+151.080189
LOCATION:Haldon House @ 276 Haldon St\, Lakemba NSW 2195\, Australia
SEQUENCE:0
SUMMARY:Annual Seminar 2018
URL:http://canterburyreferees.org.au/event/cra-annual-seminar/
X-COST-TYPE:free
X-ALT-DESC;FMTTYPE=text/html:<!DOCTYPE HTML PUBLIC '-//W3C//DTD HTML 3.2//E
 N'>\\n<HTML>\\n<HEAD>\\n<TITLE></TITLE>\\n</HEAD>\\n<BODY><p>The CRA Annua
 l Seminar is <strong>COMPULSORY</strong> for <strong>ALL</strong> register
 ed CRA members to attend.</p>\n<p>If you cannot attend please email the de
 velopment officer… <a href='mailto:development@canterburyreferees.org.au'>
 development@canterburyreferees.org.au</a></p>\n</BODY></HTML>
X-TAGS;LANGUAGE=en-AU:learn\,learning\,seminar\,training
END:VEVENT
BEGIN:VEVENT
UID:ai1ec-216@canterburyreferees.org.au
DTSTAMP:20180224T091059Z
CATEGORIES:
CONTACT:Anthony Mansour\; development@canterburyreferees.org.au
DESCRIPTION:Every registered CRA Referee is recommended to attend every tra
 ining session throughout the season.\nThey are held every Monday night dur
 ing throughout season and we’ll go through videos and scenarios about the 
 different laws of the game but also practical sessions out on the field de
 aling with different aspects of refereeing i.e positioning and offsides.\n
 Attendance to training will increase the standard of games you referee thr
 oughout the season and you may have a higher chance of receiving finals se
 ries games.
DTSTART;TZID=Australia/Sydney:20180409T183000
DTEND;TZID=Australia/Sydney:20180409T201500
GEO:-33.925085;+151.119405
LOCATION:EBP Sports @ 43 Doris Ave\, Earlwood NSW 2206\, Australia
RDATE;TZID=Australia/Sydney:20180423T183000
RDATE;TZID=Australia/Sydney:20180430T183000
RDATE;TZID=Australia/Sydney:20180507T183000
RDATE;TZID=Australia/Sydney:20180514T183000
RDATE;TZID=Australia/Sydney:20180528T183000
RDATE;TZID=Australia/Sydney:20180604T183000
RDATE;TZID=Australia/Sydney:20180618T183000
RDATE;TZID=Australia/Sydney:20180702T183000
RDATE;TZID=Australia/Sydney:20180709T183000
RDATE;TZID=Australia/Sydney:20180716T183000
RDATE;TZID=Australia/Sydney:20180730T183000
RDATE;TZID=Australia/Sydney:20180806T183000
RDATE;TZID=Australia/Sydney:20180813T183000
SEQUENCE:0
SUMMARY:Referee Training
URL:http://canterburyreferees.org.au/event/referees-training/
X-COST-TYPE:free
X-ALT-DESC;FMTTYPE=text/html:<!DOCTYPE HTML PUBLIC '-//W3C//DTD HTML 3.2//E
 N'>\\n<HTML>\\n<HEAD>\\n<TITLE></TITLE>\\n</HEAD>\\n<BODY><p>Every registe
 red CRA Referee is recommended to attend every training session throughout
  the season.</p>\n<p>They are held every Monday night during throughout se
 ason and we’ll go through videos and scenarios about the different laws of
  the game but also practical sessions out on the field dealing with differ
 ent aspects of refereeing i.e positioning and offsides.</p>\n<p>Attendance
  to training will increase the standard of games you referee throughout th
 e season and you may have a higher chance of receiving finals series games
 .</p>\n</BODY></HTML>
X-TAGS;LANGUAGE=en-AU:learning\,referee\,training
END:VEVENT
BEGIN:VEVENT
UID:ai1ec-424@canterburyreferees.org.au
DTSTAMP:20180224T091059Z
CATEGORIES:
CONTACT:
DESCRIPTION:Training : 6:30pm to 7:30pm\nTraining will be held at 6:30pm on
  the night of the General Meeting. The official General Meeting proceeding
 s will commence at 7:30pm.\nGeneral Meeting : 7:30pm to 9:00pm\nGeneral me
 etings are compulsory for all members. If you cannot attend for any genuin
 e reason\, please notify a member of the association and this will be minu
 ted at the meeting.
DTSTART;TZID=Australia/Sydney:20180416T183000
DTEND;TZID=Australia/Sydney:20180416T213000
GEO:-33.925085;+151.119405
LOCATION:EBP Sports @ 43 Doris Ave\, Earlwood NSW 2206\, Australia
RDATE;TZID=Australia/Sydney:20180521T183000
RDATE;TZID=Australia/Sydney:20180625T183000
RDATE;TZID=Australia/Sydney:20180723T183000
RDATE;TZID=Australia/Sydney:20180820T183000
SEQUENCE:0
SUMMARY:General Meeting
URL:http://canterburyreferees.org.au/event/general-meeting/
X-COST-TYPE:free
X-ALT-DESC;FMTTYPE=text/html:<!DOCTYPE HTML PUBLIC '-//W3C//DTD HTML 3.2//E
 N'>\\n<HTML>\\n<HEAD>\\n<TITLE></TITLE>\\n</HEAD>\\n<BODY><p><strong>Train
 ing :</strong> 6:30pm to 7:30pm</p>\n<p>Training will be held at 6:30pm on
  the night of the General Meeting. The official General Meeting proceeding
 s will commence at 7:30pm.</p>\n<p><strong>General Meeting :</strong> 7:30
 pm to 9:00pm</p>\n<p>General meetings are <strong>compulsory</strong> for 
 all members. If you cannot attend for any genuine reason\, please notify a
  member of the association and this will be minuted at the meeting.</p>\n<
 /BODY></HTML>
END:VEVENT
BEGIN:VEVENT
UID:ai1ec-425@canterburyreferees.org.au
DTSTAMP:20180224T091059Z
CATEGORIES:
CONTACT:Anthony Mansour\; development@canterburyreferees.org.au
DESCRIPTION:The Annual General Meeting (AGM) is compulsory for all members.
  If you cannot attend for any genuine reason\, please notify our developme
 nt officer.
DTSTART;TZID=Australia/Sydney:20181105T190000
DTEND;TZID=Australia/Sydney:20181105T210000
GEO:-33.925085;+151.119405
LOCATION:EBP Sports @ 43 Doris Ave\, Earlwood NSW 2206\, Australia
SEQUENCE:0
SUMMARY:Annual General Meeting
URL:http://canterburyreferees.org.au/event/annual-general-meeting/
X-COST-TYPE:free
X-ALT-DESC;FMTTYPE=text/html:<!DOCTYPE HTML PUBLIC '-//W3C//DTD HTML 3.2//E
 N'>\\n<HTML>\\n<HEAD>\\n<TITLE></TITLE>\\n</HEAD>\\n<BODY><p>The Annual Ge
 neral Meeting (AGM) is <strong>compulsory for all members</strong>. If you
  cannot attend for any genuine reason\, please notify our development offi
 cer.</p>\n</BODY></HTML>
END:VEVENT
END:VCALENDAR
